BEGIN:VCALENDAR
VERSION:2.0
PRODID:-//wp-events-plugin.com//5.99912//EN
TZID:Europe/Berlin
X-WR-TIMEZONE:Europe/Berlin
BEGIN:VEVENT
UID:1-1614@beginen.koeln
DTSTART;TZID=Europe/Berlin:20260519T100000
DTEND;TZID=Europe/Berlin:20260519T120000
DTSTAMP:20260302T155407Z
URL:https://beginen.koeln/veranstaltungen/beratung-fuer-seniorinnen-und-se
 nioren-22/
SUMMARY:Beratung für Seniorinnen und Senioren
DESCRIPTION:&nbsp\;\nmit Almut Camman\, Seniorenberaterin ASB Kön\nTermin:
  Dienstag\, 19. Mai von 10.00 – 12.00 Uhr\n Bitte vereinbaren Sie einen 
 Termin zur obigen Zeit für eine Beratung über 0221/66007-195 oder almut.
 camman@asb-koeln.de\n\n\n\n&nbsp\;\n&nbsp\;
CATEGORIES:Beginentreff
LOCATION:Beginenhof Köln\, Unter Linden 119\, Köln\, 50859 \, Deutschland
GEO:50.9629695;6.840936300000067
X-APPLE-STRUCTURED-LOCATION;VALUE=URI;X-ADDRESS=Unter Linden 119\, Köln\, 
 50859 \, Deutschland;X-APPLE-RADIUS=100;X-TITLE=Beginenhof Köln:geo:50.96
 29695,6.840936300000067
END:VEVENT
BEGIN:VTIMEZONE
TZID:Europe/Berlin
X-LIC-LOCATION:Europe/Berlin
BEGIN:DAYLIGHT
DTSTART:20260329T030000
TZOFFSETFROM:+0100
TZOFFSETTO:+0200
TZNAME:CEST
END:DAYLIGHT
END:VTIMEZONE
END:VCALENDAR