BEGIN:VCALENDAR
VERSION:2.0
PRODID:-//wp-events-plugin.com//5.99912//EN
TZID:Europe/Berlin
X-WR-TIMEZONE:Europe/Berlin
BEGIN:VEVENT
UID:1-1623@beginen.koeln
DTSTART;TZID=Europe/Berlin:20260522T190000
DTEND;TZID=Europe/Berlin:20260522T190000
DTSTAMP:20260328T170436Z
URL:https://beginen.koeln/veranstaltungen/mutige-frauen-zwischen-gestern-u
 nd-heute-5/
SUMMARY:Mutige Frauen zwischen gestern und heute
DESCRIPTION: „Denn wo man singt\, da lass dich ruhig nieder. Böse Mensch
 en kennen keine Lieder“ ? \n– über Alma\, Anita\, Esther und Fania im
  Frauenorchester des KZ-Auschwitz\nReferentin: Dr. Viktoria Hertling\, His
 torikerin und Autorin\nKostenbeitrag: 10\,- / 8\,- € ermäßigter Beitra
 g\n&nbsp\;
CATEGORIES:Beginentreff
LOCATION:Beginenhof Köln\, Unter Linden 119\, Köln\, 50859 \, Deutschland
GEO:50.9629695;6.840936300000067
X-APPLE-STRUCTURED-LOCATION;VALUE=URI;X-ADDRESS=Unter Linden 119\, Köln\, 
 50859 \, Deutschland;X-APPLE-RADIUS=100;X-TITLE=Beginenhof Köln:geo:50.96
 29695,6.840936300000067
END:VEVENT
BEGIN:VTIMEZONE
TZID:Europe/Berlin
X-LIC-LOCATION:Europe/Berlin
BEGIN:DAYLIGHT
DTSTART:20260329T030000
TZOFFSETFROM:+0100
TZOFFSETTO:+0200
TZNAME:CEST
END:DAYLIGHT
END:VTIMEZONE
END:VCALENDAR